BEGIN:VCALENDAR
VERSION:2.0
PRODID:-//猫にゃんズブログ - ECPv6.15.12.2//NONSGML v1.0//EN
CALSCALE:GREGORIAN
METHOD:PUBLISH
X-WR-CALNAME:猫にゃんズブログ
X-ORIGINAL-URL:https://nekonyanz.nagano.jp
X-WR-CALDESC:猫にゃんズブログ のイベント
REFRESH-INTERVAL;VALUE=DURATION:PT1H
X-Robots-Tag:noindex
X-PUBLISHED-TTL:PT1H
BEGIN:VTIMEZONE
TZID:Asia/Tokyo
BEGIN:STANDARD
TZOFFSETFROM:+0900
TZOFFSETTO:+0900
TZNAME:JST
DTSTART:20250101T000000
END:STANDARD
END:VTIMEZONE
BEGIN:VEVENT
DTSTART;TZID=Asia/Tokyo:20260620T100000
DTEND;TZID=Asia/Tokyo:20260620T160000
DTSTAMP:20260424T142910
CREATED:20260418T112930Z
LAST-MODIFIED:20260418T112930Z
UID:9015-1781949600-1781971200@nekonyanz.nagano.jp
SUMMARY:保護猫チャリティーコンサート＆猫マルシェ
DESCRIPTION:猫を想う人たちが集う、やさしいウェルビーイングな空間へ。\nWell Being NTさんがとよおかマルシェでチャリティーコンサートを開催してくれます。\nぜひお立ち寄りください。
URL:https://nekonyanz.nagano.jp/event/%e4%bf%9d%e8%ad%b7%e7%8c%ab%e3%83%81%e3%83%a3%e3%83%aa%e3%83%86%e3%82%a3%e3%83%bc%e3%82%b3%e3%83%b3%e3%82%b5%e3%83%bc%e3%83%88%ef%bc%86%e7%8c%ab%e3%83%9e%e3%83%ab%e3%82%b7%e3%82%a7/
END:VEVENT
END:VCALENDAR