BEGIN:VCALENDAR
VERSION:2.0
PRODID:-//猫にゃんズブログ - ECPv6.15.12.2//NONSGML v1.0//EN
CALSCALE:GREGORIAN
METHOD:PUBLISH
X-ORIGINAL-URL:https://nekonyanz.nagano.jp
X-WR-CALDESC:猫にゃんズブログ のイベント
REFRESH-INTERVAL;VALUE=DURATION:PT1H
X-Robots-Tag:noindex
X-PUBLISHED-TTL:PT1H
BEGIN:VTIMEZONE
TZID:Asia/Tokyo
BEGIN:STANDARD
TZOFFSETFROM:+0900
TZOFFSETTO:+0900
TZNAME:JST
DTSTART:20250101T000000
END:STANDARD
END:VTIMEZONE
BEGIN:VEVENT
DTSTART;TZID=Asia/Tokyo:20260503T100000
DTEND;TZID=Asia/Tokyo:20260503T150000
DTSTAMP:20260424T125808
CREATED:20260418T112338Z
LAST-MODIFIED:20260418T112413Z
UID:9011-1777802400-1777820400@nekonyanz.nagano.jp
SUMMARY:高森にゃんズハウス譲渡会
DESCRIPTION:
URL:https://nekonyanz.nagano.jp/event/%e9%ab%98%e6%a3%ae%e8%ad%b2%e6%b8%a1%e4%bc%9a202605/
LOCATION:にゃんズハウス
END:VEVENT
BEGIN:VEVENT
DTSTART;TZID=Asia/Tokyo:20260516T080000
DTEND;TZID=Asia/Tokyo:20260517T170000
DTSTAMP:20260424T125808
CREATED:20260418T111854Z
LAST-MODIFIED:20260418T111854Z
UID:9006-1778918400-1779037200@nekonyanz.nagano.jp
SUMMARY:井坪工務店　リフォームフェア
DESCRIPTION:5月16日(土)・17日(日)の二日間、住まいの情報センター松川で初夏のリフォームフェアが開催されます。\nいつものように譲渡会も開催しますので、ぜひご来場ください。
URL:https://nekonyanz.nagano.jp/event/%e4%ba%95%e5%9d%aa%e5%b7%a5%e5%8b%99%e5%ba%97%e3%80%80%e3%83%aa%e3%83%95%e3%82%a9%e3%83%bc%e3%83%a0%e3%83%95%e3%82%a7%e3%82%a2/
END:VEVENT
BEGIN:VEVENT
DTSTART;TZID=Asia/Tokyo:20260524T090000
DTEND;TZID=Asia/Tokyo:20260524T150000
DTSTAMP:20260424T125808
CREATED:20260423T124344Z
LAST-MODIFIED:20260423T124400Z
UID:9051-1779613200-1779634800@nekonyanz.nagano.jp
SUMMARY:薬師猫神様縁日
DESCRIPTION:
URL:https://nekonyanz.nagano.jp/event/%e8%96%ac%e5%b8%ab%e7%8c%ab%e7%a5%9e%e6%a7%98%e7%b8%81%e6%97%a50524/
LOCATION:高森町大島山瑠璃寺
END:VEVENT
BEGIN:VEVENT
DTSTART;TZID=Asia/Tokyo:20260530T100000
DTEND;TZID=Asia/Tokyo:20260531T170000
DTSTAMP:20260424T125808
CREATED:20260423T125853Z
LAST-MODIFIED:20260423T125853Z
UID:9058-1780135200-1780246800@nekonyanz.nagano.jp
SUMMARY:第10回綿半まつりin南信州・飯田
DESCRIPTION:5月の綿半譲渡会は、飯田短期大学で開催される第10回綿半まつりin南信州・飯田の会場で行います。\n2日間にわたってお買い得商品・話題の商品・訳アリ商品の販売など、楽しいブースが盛りだくさんです。\n譲渡会は2日目、31日（日）の12時〜14時の予定です。\nぜひお越しください。\nそれにともない綿半ホームエイド　アップルロード店での譲渡会はお休みいたします。
URL:https://nekonyanz.nagano.jp/event/%e7%ac%ac10%e5%9b%9e%e7%b6%bf%e5%8d%8a%e3%81%be%e3%81%a4%e3%82%8ain%e5%8d%97%e4%bf%a1%e5%b7%9e%e3%83%bb%e9%a3%af%e7%94%b0/
END:VEVENT
END:VCALENDAR